Workbook

Sheet Hinweise zum Ausfüllen
A1: Kinder- und Jugendplan des Bundes 2027
A2: Antragsstellung Programm "Kinder- und Jugendarbeit im Sport" (KJS)
A4: Hinweise zum Ausfüllen der Formblätter
A6: Bitte die grün hinterlegten Felder ausfüllen
A7: Die gelb hinterlegten Felder müssen nicht ausgefüllt werden. Die Daten aus den anderen Excel-Blättern werden automatisch übertragen.
A9: Deckblatt: | B9: Deckblatt ausfüllen und unterschreiben.
A10: Stammblatt: | B10: Stammblatt ausfüllen und nur die Anlagen einreichen, bei denen sich seit der letzten Antragstellung Änderungen ergeben haben. So zum Beispiel bei einer Satzungsänderung oder beim Verzeichnis der Vorstandsmitglieder. Sollten sich im Laufe des Jahres der Antragstellung Änderungen ergeben, so müssen diese auch bei der dsj eingereicht werden
A11: Kurse und Arbeitstagungen: | B11: Übersicht für Kurse und Arbeitstagungen vollständig ausfüllen, die Fördersumme wird automatisch berechnet und die Gesamtsumme automatisch in das Deckblatt übertragen. Bitte ein Datum eintragen und bei einer Terminänderung eine Mitteilung per E-Mail an verbandsmanagement@dsj.de schicken.
A12: Großveranstaltungen: | B12: Übersicht für Großveranstaltungen vollständig ausfüllen, die Fördersumme wird automatisch berechnet und die Gesamtsumme in das Deckblatt übertragen.
A13: Kleinaktivitäten und AV3-K: | B13: Übersicht für Kleinaktivitäten vollständig ausfüllen, die Gesamtsumme wird automatisch in das Deckblatt übertragen. Für jede Kleinaktivität einen eigenen Kosten- und Finanzierungsplan (AVK-3) ausfüllen. Bei mehreren Kleinaktivitäten bitte AVK-3 kopieren.
A14: Sonstige Aktivitäten Veranstaltung und AV-K1: | B14: Übersicht für Sonstige Aktivität vollständig ausfüllen, die Gesamtsumme wird automatisch in das Deckblatt übertragen. Für Sonstige Aktivität als Veranstaltung den Kosten- und Finanzierungsplan (AVK-1) ausfüllen. Für Sonstige Aktivität den Kosten- und Finanzierungsplan (AVK-2) ausfüllen. Für Sonstige Aktivität als Druck-/Medienerzeugnis Kosten- und Finanzierungsplan (AVK-3) ausfüllen.
A15: Erläuterung, warum es eine Sonstige Aktivität ist: | B15: Bitte erläutere kurz die Inhalte und Ziele der Maßnahme sowie deren Bezug zur Kinder- und Jugendhilfe und den Zielen des Kinder- und Jugendplans des Bundes. Beschreibe außerdem, warum die Maßnahme aufgrund ihrer besonderen Art, ihrer Rahmenbedingungen oder ihres Durchführungsformats nicht den regulären Veranstaltungsformaten nach Nr. VI. 2.1–2.4 RL-KJP (Kurse, Arbeitstagungen, Großveranstaltungen oder Kleinaktivität) zugeordnet werden kann. Die Erläuterung sollte zudem die Notwendigkeit der geplanten Ausgaben nachvollziehbar darstellen. Eine Arbeitshilfe_Sonstige Aktivität findet ihr im Downloadbereich der Homepage.
A16: Personalkosten | B16: Wenn sich an deinen Tätigkeiten der aktuellen Stelle nichts ändert, musst Du die P1 und P2 nicht ausfüllen und nicht einreichen. Änderungen am Stellenanteil (Arbeitszeit in %), Umgruppierungen (m,g,h) oder eine neue/weitere Personalstelle sind ab 2030 möglich. Bitte gib zur Bedarfserfassung trotzdem an, wenn künftig Bedarf für eine Höhergruppierung, eine Aufstockung des Stellenumfangs oder eine neue Stelle besteht. Ausführliche Informationen sind im "Handbuch KJS" im Downloadbereich der Homepage zu finden.
A17: Arbeitshilfe Sonstigen Aktivität und Handbuch KJS | B17: Downloadbereich dsj-Homepage

Sheet Formblattverzeichnis
A1: Kinder- und Jugendplan des Bundes 2027
A2: Antragsstellung Programm "Kinder- und Jugendarbeit im Sport" (KJS)
A4: Formblattverzeichnis
A6: Lfd. Nr. | B6: Titel
A7: 1 | B7: Deckblatt
A8: 2 | B8: Stammblatt
A9: 3 | B9: Zusammenstellung Kurse, Arbeitstagungen und Großveranstaltungen
A10: 4 | B10: Zusammenstellung Kleinaktivitäten
A11: 5 | B11: Kleinaktivitäten - Kosten- und Finanzierungsplan (AVK-3)
A12: 6 | B12: Großveranstaltungen
A13: 7 | B13: Sonstige Aktivitäten (SoA)
A14: 8 | B14: Kosten- und Finanzierungsplan Sonstige Aktivitäten als Veranstaltung (AVK-1)
A15: 9 | B15: Kosten- und Finanzierungsplan Sonstige Aktivitäten (AVK-2)
A16: 10 | B16: Kosten- und Finanzierungsplan Sonstige Aktivitäten als Druck- und Medienerzeugnis (AVK-3)
A17: 11 | B17: Personalkosten
A18: 12 | B18: Zusammenstellung Stellenübersicht
... A21: 15 | B21: Personalkostenberechnung

Sheet Deckblatt
P1: Kinder- und Jugendplan des Bundes (KJP) 20 | Q1: 27 | U1: Formblatt | V1: x | W1: A (Geamtantrag)
W2: V (Gesamtverwendungs-
X3: nachweis)
B5: Programm "Kinder- und Jugendarbeit im Sport" (KJS)
B8: Gesamtantrag für den Förderzeitraum vom 01.01.2027 bis 31.12.2027
U10: KJP-Handlungsfeld/er
U11: Kinder- und Jugendarbeit im Sport
A14: Antragsteller/Zuwendungsempfänger (Name und Anschrift) | Q14: Ansprechpartner/-in (Name, Vorname, Telefon, E-Mail)
A16: Mitgliedsorganisation | Q16: Vorname Name
A17: Straße und Hausnummer | Q17: Telefon
A18: PLZ Stadt | Q18: E-Mail
A22: Wir beantragen Zuwendungen, die bewilligten Mittel werden verwendet für:
Z24: €
B25: Personalkosten | X25: =Personalkosten!O22 -> 0
B26: Kurse und Arbeitstagungen | X26: =SUM('Kurse, Arbeitstagungen'!AR15:AV26) -> 0
B27: Kleinaktivitäten | X27: =Kleinaktivitäten!AF27 -> 0
B28: Großveranstaltungen | X28: =Großveranstaltungen!AP27 -> 0
B29: Sonstige Aktivitäten | X29: =SUM('Sonstige Aktivitäten'!AF16:AO27) -> 0
O30: Gesamtsumme | X30: =SUM(X25:AB29) -> 0
A33: Hiermit beantrage ich die genannten Fördermittel und versichere:
A34: - die Richtigkeit und Vollständigkeit der Angaben,
A35: - dass die KJP-Richtlinien und die Nebenbestimmungen beachtet werden,
A36: - dass Änderungen unverzüglich mitgeteilt werden,
A37: - dass ich berechtigt bin, den Antrag für die antragstellende Organisation zu stellen.
A38: - mir sind die geltenden Förderbestimmungen bekannt und ich erkenne sie an.
A55: Ort, Datum | M55: Namensangabe(n) u. Funktion(en) in Druckbuchstaben sowie einfache (elektronische) Signatur(en) (z.B. eingescannte Unterschrift)

Sheet Stammblatt
P1: Kinder- und Jugendplan des Bundes (KJP) 20 | Q1: 27 | U1: Formblatt | V1: x | W1: S (Stammblatt)
T4: Stammblatt
T5: zum Antrag vom | AA5: KJP-Handlungsfeld
AA6: Kinder- und Jugendarbeit im Sport
A8: Antragsteller/Zuwendungsempfänger (Name und Anschrift)
A10: =Deckblatt!A16 -> Mitgliedsorganisation
A11: =Deckblatt!A17 -> Straße und Hausnummer
A12: =Deckblatt!A18 -> PLZ Stadt
A14: Telefon | M14: E-Mail-Adresse
A15: =Deckblatt!Q17 -> Telefon | M15: =Deckblatt!Q18 -> E-Mail
A18: IBAN: | P18: Geldinstitut | Y18: BIC:
A21: Bei einer Gesamtzuwendungssumme aus Haushaltsmitteln des BMBFSFJ von mehr als 500.000 € pro Jahr:
A22: Wir möchten die Zuwendungsmittel nicht im Abrufverfahren bewirtschaften und machen folgende Ausschlussgründe geltend:
A23: entfällt für unsere Mitgliedsorganisationen
A26: Erforderliche Unterlagen | N26: liegt bei | R26: wird | W26: wurde bereits | AC26: Änderungen sind
R27: nachgereicht | W27: vorgelegt am | AC27: nicht eingetreten
B29: geltende Satzung/Ordnung
B31: Verzeichnis der Vorstandsmitglieder
B33: Nachweis der Gemeinnützigkeit
A35: Weitere Unterlagen | N35: liegt bei | R35: wird | W35: wurde bereits | AC35: Änderungen sind
R36: nachgereicht | W36: vorgelegt am | AC36: nicht eingetreten
B37: Nachweis der Eintragung ins
B38: Vereinsregister
B40: Bescheid über die Anerkennung als | W40: Anerkennung der
B41: Träger der Jugendhilfe nach § 75 KJHG | W41: dsj bezieht MO ein
B43: Bei Zentralstelle: Verzeichnis
B44: der angeschlossenen Gliederung
B47: Schutzkonzept gemäß UBSKMG liegt | P47: ja | T47: nein
B48: vor (entspricht dsj-Stufenmodell)
A50: Wir sind folgendem Dachverband angeschlossen:
A51: Deutsche Sportjugend (dsj)
A58: Ort, Datum | M58: Namensangabe(n) u. Funktion(en) in Druckbuchstaben sowie einfache (elektronische) Signatur(en) (z.B. eingescannte Unterschrift)

Sheet Kurse, Arbeitstagungen
M1: Kinder- und Jugendplan des Bundes (KJP) 20 | N1: 27
A3: Antragsteller/Zuwendungsempfänger (Name und Anschrift)
X4: Zusammenstellung Kurse, Arbeitstagungen
A5: =Deckblatt!A16 -> Mitgliedsorganisation | X5: für Kurse und Arbeitstagungen (Nr. VI.2.1 RL-KJP)
A6: =Deckblatt!A17 -> Straße und Hausnummer | AJ6: KJP-Handlungsfeld
A7: =Deckblatt!A18 -> PLZ Stadt | AJ7: Kinder- und Jugendarbeit im Sport
A9: lfd. | C9: Art der Aktivität | E9: Thema | N9: Ort | S9: Zeit (von - bis) | X9: Tage | Z9: Zahl | AB9: Teilneh- | AE9: Teilnehmenden- | AJ9: Honorarko- | AN9: Farhrtkosten- | AR9: KJP-Mittel | AW9: Kurzbeschreibung des Inhalts | AX9: Zuordnung KJP-Leitziele (s. B1-10) Füge die entsprechenden Nummern ein, Mehrfachauswahl möglich, z.B. 1,3,4 | AY9: In welchem prozentualen Umfang hat der Kurs Lehr- oder Fortbildungscharakter?
A10: Nr. | Z10: der | AB10: menden- | AE10: Festbetrag | AJ10: stenfestbetrag | AN10: festbetrag
C11: Füge ein: | S11: Datum angeben | Z11: Teilneh- | AB11: tage | AE11: 40 | AI11: € | AJ11: 305 | AM11: € | AN11: 60 | AQ11: €
C12: Kurs (K) oder | S12: Kein Quartal | Z12: mein- | AB12: insgesamt | AE12: insgesamt | AJ12: insgesamt | AN12: insgesamt | AR12: insgesamt
C13: Arbeitstagung (AT) | S13: oder N.N. | Z13: den | AE13: € | AJ13: € | AN13: € | AR13: € | AX13: KJP-Leitziele | AY13: %
A14: 1 | C14: 2 | E14: 3 | N14: 4 | S14: 5 | X14: 6 | Z14: 7 | AB14: 8 | AE14: 9 | AJ14: 10 | AN14: 11 | AR14: 12 | AW14: 13 | AX14: 14 | AY14: 15
A15: 1 | AB15: =X15*Z15 -> 0 | AE15: =AB15*$AE$11 -> 0 | AR15: =AE15+AJ15+AN15 -> 0
A16: 2 | AB16: =X16*Z16 -> 0 | AE16: =AB16*$AE$11 -> 0 | AR16: =AE16+AJ16+AN16 -> 0
A17: 3 | AB17: =X17*Z17 -> 0 | AE17: =AB17*$AE$11 -> 0 | AR17: =AE17+AJ17+AN17 -> 0
A18: 4 | AB18: =X18*Z18 -> 0 | AE18: =AB18*$AE$11 -> 0 | AR18: =AE18+AJ18+AN18 -> 0
A19: 5 | AB19: =X19*Z19 -> 0 | AE19: =AB19*$AE$11 -> 0 | AR19: =AE19+AJ19+AN19 -> 0
A20: 6 | AB20: =X20*Z20 -> 0 | AE20: =AB20*$AE$11 -> 0 | AR20: =AE20+AJ20+AN20 -> 0
A21: 7 | AB21: =X21*Z21 -> 0 | AE21: =AB21*$AE$11 -> 0 | AR21: =AE21+AJ21+AN21 -> 0
A22: 8 | AB22: =X22*Z22 -> 0 | AE22: =AB22*$AE$11 -> 0 | AR22: =AE22+AJ22+AN22 -> 0
A23: 9 | AB23: =X23*Z23 -> 0 | AE23: =AB23*$AE$11 -> 0 | AR23: =AE23+AJ23+AN23 -> 0
A24: 10 | AB24: =X24*Z24 -> 0 | AE24: =AB24*$AE$11 -> 0 | AR24: =AE24+AJ24+AN24 -> 0
A25: 11 | AB25: =X25*Z25 -> 0 | AE25: =AB25*$AE$11 -> 0 | AR25: 0
A26: 12 | AB26: =X26*Z26 -> 0 | AE26: =AB26*$AE$11 -> 0 | AR26: =AE26+AJ26+AN26 -> 0
E27: Gesamtsumme: | X27: =SUM(X15:Y26) -> 0 | Z27: =SUM(Z15:AA26) -> 0 | AB27: =SUM(AB15:AD26) -> 0 | AE27: =SUM(AE15:AI26) -> 0 | AJ27: =SUM(AJ15:AM26) -> 0 | AN27: =SUM(AN15:AQ26) -> 0 | AR27: =SUM(AR15:AV26) -> 0

Sheet Großveranstaltungen
O1: Kinder- und Jugendplan des Bundes (KJP) 20 | P1: 27
A3: Antragsteller/Zuwendungsempfänger (Name und Anschrift)
V4: Zusammenstellung Großveranstaltungen
A5: =Deckblatt!A16 -> Mitgliedsorganisation | V5: für Großveranstaltungen nach Nr. VI. 2.4 RL-KJP
A6: =Deckblatt!A17 -> Straße und Hausnummer | AH6: KJP-Handlungsfeld
A7: =Deckblatt!A18 -> PLZ Stadt | AH7: Kinder- und Jugendarbeit im Sport
A9: lfd. | C9: Thema | L9: Ort | Q9: Zeit (von - bis) | V9: Tage | X9: Zahl | Z9: Teilneh- | AC9: Teilnehmenden- | AH9: Honorarko- | AL9: Farhrtkosten- | AP9: KJP-Mittel | AU9: Kurzbeschreibung des Inhalts
A10: Nr. | X10: der | Z10: menden- | AC10: Festbetrag | AH10: stenfestbetrag | AL10: festbetrag
Q11: Datum angeben | X11: Teilneh- | Z11: tage | AC11: 40 | AG11: € | AH11: 305 | AK11: € | AL11: 60 | AO11: €
Q12: Kein Quartal | X12: mein- | Z12: insgesamt | AC12: insgesamt | AH12: insgesamt | AL12: insgesamt | AP12: insgesamt
Q13: oder N.N. | X13: den | AC13: € | AH13: € | AL13: € | AP13: €
A14: 1 | C14: 2 | L14: 3 | Q14: 4 | V14: 5 | X14: 6 | Z14: 7 | AC14: 8 | AH14: 9 | AL14: 10 | AP14: 11 | AU14: 12
A15: 1 | Z15: =V15*X15 -> 0 | AC15: =Z15*$AC$11 -> 0 | AP15: =AC15+AH15+AL15 -> 0
A16: 2 | Z16: =V16*X16 -> 0 | AC16: =Z16*$AC$11 -> 0 | AP16: =AC16+AH16+AL16 -> 0
A17: 3 | Z17: =V17*X17 -> 0 | AC17: =Z17*$AC$11 -> 0 | AP17: =AC17+AH17+AL17 -> 0
A18: 4 | Z18: =V18*X18 -> 0 | AC18: =Z18*$AC$11 -> 0 | AP18: =AC18+AH18+AL18 -> 0
A19: 5 | Z19: =V19*X19 -> 0 | AC19: =Z19*$AC$11 -> 0 | AP19: =AC19+AH19+AL19 -> 0
A20: 6 | Z20: =V20*X20 -> 0 | AC20: =Z20*$AC$11 -> 0 | AP20: =AC20+AH20+AL20 -> 0
A21: 7 | Z21: =V21*X21 -> 0 | AC21: =Z21*$AC$11 -> 0 | AP21: =AC21+AH21+AL21 -> 0
A22: 8 | Z22: =V22*X22 -> 0 | AC22: =Z22*$AC$11 -> 0 | AP22: =AC22+AH22+AL22 -> 0
A23: 9 | Z23: =V23*X23 -> 0 | AC23: =Z23*$AC$11 -> 0 | AP23: =AC23+AH23+AL23 -> 0
A24: 10 | Z24: =V24*X24 -> 0 | AC24: =Z24*$AC$11 -> 0 | AP24: =AC24+AH24+AL24 -> 0
A25: 11 | Z25: =V25*X25 -> 0 | AC25: =Z25*$AC$11 -> 0 | AP25: =AC25+AH25+AL25 -> 0
A26: 12 | Z26: =V26*X26 -> 0 | AC26: =Z26*$AC$11 -> 0 | AP26: =AC26+AH26+AL26 -> 0
C27: Gesamtsumme: | V27: =SUM(V15:W26) -> 0 | X27: =SUM(X15:Y26) -> 0 | Z27: =SUM(Z15:AB26) -> 0 | AC27: =SUM(AC15:AG26) -> 0 | AH27: =SUM(AH15:AK26) -> 0 | AL27: =SUM(AL15:AO26) -> 0 | AP27: =SUM(AP15:AT26) -> 0

Sheet Kleinaktivitäten
N1: Kinder- und Jugendplan des Bundes (KJP) 20 | O1: 27
A3: Antragsteller/Zuwendungsempfänger (Name und Anschrift)
X4: Zusammenstellung Kleinaktivitäten
A5: =Deckblatt!A16 -> Mitgliedsorganisation | X5: für Kleinanktivitäten nach Nr. VI.2.3 Abs. 1 und 2 RL-KJP
A6: =Deckblatt!A17 -> Straße und Hausnummer | AB6: KJP-Handlungsfeld
A7: =Deckblatt!A18 -> PLZ Stadt | AB7: Kinder- und Jugendarbeit im Sport
A9: lfd. | C9: Füge ein: | E9: Thema | N9: Ort | S9: Zeit (von - bis) | X9: Gesamt- | AB9: Eingebrachte | AF9: KJP-Mittel (Festbetrag) | AP9: Hinweis
A10: Nr. | X10: kosten | AB10: Eigenmittel
C11: Medien | S11: Datum angeben | AB11: min. 10% | AF11: Medien (max. 3.000 €)
C12: oder | S12: Kein Quartal | AB12: der Gesamtkosten | AF12: Andere (max. 1.000 €)
C13: Andere | S13: oder N.N. | X13: € | AB13: €
A14: 1 | C14: 2 | E14: 3 | N14: 4 | S14: 5 | X14: 6 | AB14: 7 | AF14: 8 | AP14: 9
A15: 1 | AF15: =X15-AB15 -> 0 | AP15: AV3-K ausfüllen
A16: 2 | AF16: =X16-AB16 -> 0 | AP16: AV3-K ausfüllen
A17: 3 | AF17: =X17-AB17 -> 0 | AP17: AV3-K ausfüllen
A18: 4 | AF18: =X18-AB18 -> 0 | AP18: AV3-K ausfüllen
A19: 5 | AF19: =X19-AB19 -> 0 | AP19: AV3-K ausfüllen
A20: 6 | AF20: =X20-AB20 -> 0 | AP20: AV3-K ausfüllen
A21: 7 | AF21: =X21-AB21 -> 0 | AP21: AV3-K ausfüllen
A22: 8 | AF22: =X22-AB22 -> 0 | AP22: AV3-K ausfüllen
A23: 9 | AF23: =X23-AB23 -> 0 | AP23: AV3-K ausfüllen
A24: 10 | AF24: =X24-AB24 -> 0 | AP24: AV3-K ausfüllen
A25: 11 | AF25: =X25-AB25 -> 0 | AP25: AV3-K ausfüllen
A26: 12 | AF26: =X26-AB26 -> 0 | AP26: AV3-K ausfüllen
E27: Summe: | X27: =SUM(X15:AA26) -> 0 | AB27: =SUM(AB15:AE26) -> 0 | AF27: =SUM(AF15:AI26) -> 0

Sheet AV3-K
P1: Kinder- und Jugendplan des Bundes (KJP) 20 | Q1: 27 | U1: Formblatt | V1: x | W1: A3-K (Antrag)
W2: V3-K (Verwendungsnachweis)
A4: Antragsteller/Zuwendungsempfänger (Kurzbezeichnung)
W5: Kleinaktivität
A6: =Deckblatt!A16 -> Mitgliedsorganisation | W6: Medien | Z6: nach Nr. VI. 2.3 Abs. 2 RL-KJP
A7: =Deckblatt!A17 -> Straße und Hausnummer
A8: =Deckblatt!A18 -> PLZ Stadt | W8: Andere | Z8: nach Nr. VI. 2.3 Abs. 1 RL-KJP
A10: Titel der Kleinaktivität
A13: Kurzbeschreibung des Inhalts (4-5 Sätze)
A26: ggf. Auflage | E26: ggf. tatsächliche | J26: ggf. Seitenumfang | O26: ggf. Herstellungs- | T26: ggf. Erschei- | X26: ggf. Verlag
A27: Stückzahl | E27: Stückzahl | J27: (einschl.Umschlag) | O27: verfahren | T27: nungsweise
B32: I | D32: Kosten (in Euro)
B33: I.1 | D33: Satz-/Druck-/Publikationskosten (brutto) | Y33: 0
B34: I.2 | D34: Honorare/Redaktionskosten (brutto) | Y34: 0
B35: I.3 | D35: Versand-/Vertriebskosten (Porto, Verpackung etc.) | Y35: 0
B36: I.4 | D36: Reisekosten | Y36: 0
B37: I.5 | D37: Weitere Kosten einzeln aufführen | Y37: =T38+T39+T40 -> 0
T38: 0
T39: 0
T40: 0
L42: Gesamtkosten | Y42: =SUM(Y33:AE37) -> 0
B45: II. | D45: Finanzierung (in Euro)
B46: II.1 | D46: Verkaufserlös (netto) | Y46: 0
B47: II.2 | D47: Eigenmittel Zuwendungsempfänger (mind. 10 % der Gesamtkosten) | Y47: 0
B48: II.3 | D48: Anzeigen-Erlöse (netto) | Y48: 0
B49: II.4 | D49: Öffentliche Zuschüsse | Y49: =T50+T51+T52 -> 0
D50: Europa-Mittel | T50: 0
D51: Bundesländer | T51: 0
D52: Städte,Kreise | T52: 0
B53: II.5 | D53: Sonstige Einnahmen | Y53: 0
B54: II.6 | D54: Beantragte/abgerechnete KJP-Zuwendung | Y54: 0
D55: (Medien max. 3.000 €, Andere = max. 1.000 €)
L57: Gesamteinnahmen | Y57: =SUM(Y46:AE54) -> 0

Sheet Sonstige Aktivitäten
J1: Kinder- und Jugendplan des Bundes (KJP) 20 | K1: 27
A3: Antragsteller/Zuwendungsempfänger (Name und Anschrift)
R4: Zusammenstellung Sonstige Aktivitäten
A5: =Deckblatt!A16 -> Mitgliedsorganisation | R5: für Sonstige Aktivitäten nach Nr. VI.2.5
A6: =Deckblatt!A17 -> Straße und Hausnummer | AD6: KJP-Handlungsfeld
A7: =Deckblatt!A18 -> PLZ Stadt | AB7: Kinder- und Jugendarbeit im Sport
A9: lfd. | C9: Art der Sonstigen Aktivität | E9: Thema | N9: Ort | S9: Zeit (von - bis) | X9: Gesamt- | AB9: Eingebrachte | AF9: KJP-Mittel € | AO9: Hinweis
C10: Füge ein: | X10: kosten | AB10: Eigenmittel
C11: SoA Veranstaltung (SoA V),
C12: Sonstige Aktivität (SoA) oder | S12: Datum angeben | AB12: (min. 10%
C13: Sonstige Aktivität Druck-/Medienerzeugnis (SoA DM) | S13: Kein Quartal | AB13: der Gesamtkosten)
S14: oder N.N. | X14: € | AB14: € | AF14: €
A15: 1 | C15: 2 | E15: 3 | N15: 4 | S15: 5 | X15: 6 | AB15: 7 | AF15: 8 | AO15: 9
A16: 1 | AF16: =X16-AB16 -> 0 | AO16: AV-K1,2 oder 3 ausfüllen
A17: 2 | AF17: =X17-AB17 -> 0 | AO17: AV-K1,2 oder 3 ausfüllen
A18: 3 | AF18: =X18-AB18 -> 0 | AO18: AV-K1,2 oder 3 ausfüllen
A19: 4 | AF19: =X19-AB19 -> 0 | AO19: AV-K1,2 oder 3 ausfüllen
A20: 5 | AF20: =X20-AB20 -> 0 | AO20: AV-K1,2 oder 3 ausfüllen
A21: 6 | AF21: =X21-AB21 -> 0 | AO21: AV-K1,2 oder 3 ausfüllen
A22: 7 | AF22: =X22-AB22 -> 0 | AO22: AV-K1,2 oder 3 ausfüllen
A23: 8 | AF23: =X23-AB23 -> 0 | AO23: AV-K1,2 oder 3 ausfüllen
A24: 9 | AF24: =X24-AB24 -> 0 | AO24: AV-K1,2 oder 3 ausfüllen
A25: 10 | AF25: =X25-AB25 -> 0 | AO25: AV-K1,2 oder 3 ausfüllen
A26: 11 | AF26: =X26-AB26 -> 0 | AO26: AV-K1,2 oder 3 ausfüllen
A27: 12 | AF27: =X27-AB27 -> 0 | AO27: AV-K1,2 oder 3 ausfüllen
E28: Summe: | X28: =SUM(X16:AA27) -> 0 | AB28: =SUM(AB16:AE27) -> 0 | AF28: =SUM(AF16:AI27) -> 0

Sheet AV-K1
O1: Kinder- und Jugendplan des Bundes (KJP) 20 | P1: 27 | U1: Formblatt | V1: x | W1: A-K1 (Antrag)
W2: V-K1 (Verwendungsnachweis)
A4: Antragsteller/Zuwendungsempfänger (Kurzbezeichnung)
S5: Kosten- und Finanzierungsplan
A6: =Deckblatt!A16 -> Mitgliedsorganisation
A7: =Deckblatt!A17 -> Straße und Hausnummer | S7: Sonstige Aktivität als Veranstaltung
A8: =Deckblatt!A18 -> PLZ Stadt | S8: (SoA V nach Nr. VI. 2.5 RL-KJP)
A10: Titel | AD10: Beginn:
AD12: Ende:
A14: Kurzbeschreibung des Inhalts
A15: Zielgruppe, Zusammensetzung der Gruppe, inhaltliche Schwerpunkte, Bezug zur Kinder- und Jugendhilfe, geplante Öffentlichkeitsarbeit
A24: Erläuterung warum die Aktivität nicht nach Nr. VI. 2.1 – VI. 2.4 gefördert werden kann/konnte:
A25: Begründung, warum es kein Kurs, keine Arbeitstagung, keine Großveranstaltung und keine Kleinaktivität ist unter Berücksichtigung der Angaben von Ziele, Anzahl Teilnehmende, Dauer der Veranstaltung und besonderer Anforderungen wie eingeschränkte Auswahl an Veranstaltungsorten, Sicherheitsanforderungen, besondere technische Ausstattung. Weitere Hilfestellungen in der "Arbeitshilfe - Sonstige Aktivitäten" im Downloadbereich der dsj-Homepage.
B34: I | D34: Kosten (in Euro)
B35: I.1 | D35: Unterkunft und Verpflegung | Z35: 0
B36: I.2 | D36: Honorare /sonstige Kosten für Referierende | Y36: =T37+T38 -> 0
B37: I.2.1 | D37: Honorare für Referentinnen und Referenten (brutto) | T37: 0
B38: I.2.2 | D38: Sonstige Kosten für Referentinnen und Referenten | T38: 0
B39: I.3 | D39: Personalkosten gemäß beiliegendem Formblatt AV6-Z | Y39: 0
D40: (beizufügen sind die Formblätter P1, P2 und P3)
B41: I.4 | D41: Fahrtkosten | Y41: =T42+T43 -> 0
B42: I.4.1 | D42: Fahrtkosten innerhalb des Programms | T42: 0
B43: I.4.2 | D43: Fahrtkosten, die den Teilnehmenden erstattet werden | T43: 0
B44: I.5 | D44: Sachkosten | Y44: =T45+T46 -> 0
B45: I.5.1 | D45: Haltung von Kraftfahrzeugen | T45: 0
B46: I.5.2 | D46: Geräte, Ausstattungs- und Ausrüstungsgegenstände | T46: 0
D47: (Gegenstände mit einem Wert von über 800 € (ohne Umsatzsteuer)
D48: einzeln aufführen)
B49: I.6 | D49: Weitere Kosten einzeln aufführen | Y49: =T50+T51+T52 -> 0
T50: 0
T51: 0
T52: 0
L54: Gesamtkosten | Y54: =Y49+Y44+Y41+Y39+Y36+Z35 -> 0
B56: II | D56: Finanzierung (in Euro)
B57: II.1* | D57: Beiträge der Teilnehmenden | Y57: 0
B58: II.2* | D58: Eigenmittel | Y58: 0
B59: II.3 | D59: Öffentliche Zuschüsse | Y59: =T60+T61+T62 -> 0
D60: Europa-Mittel | T60: 0
D61: Bundesländer | T61: 0
D62: Städte, Kreise | T62: 0
...

Sheet AV-K2
O1: Kinder- und Jugendplan des Bundes (KJP) 20 | P1: 27 | U1: Formblatt | V1: x | W1: A-K2 (Antrag)
W2: V-K2 (Verwendungsnachweis)
A4: Antragsteller/Zuwendungsempfänger (Kurzbezeichnung)
S5: Kosten- und Finanzierungsplan
A6: =Deckblatt!A16 -> Mitgliedsorganisation
A7: =Deckblatt!A17 -> Straße und Hausnummer | S7: Sonstige Aktivität
A8: =Deckblatt!A18 -> PLZ Stadt | S8: (SoA V nach Nr. VI. 2.5 RL-KJP)
A10: Titel | AD10: Beginn:
AD12: Ende:
A14: Kurzbeschreibung des Inhalts
A15: Zielgruppe, Zusammensetzung der Gruppe, inhaltliche Schwerpunkte, Bezug zur Kinder- und Jugendhilfe, geplante Öffentlichkeitsarbeit
A24: Erläuterung warum die Aktivität nicht nach Nr. VI. 2.1 – VI. 2.4 gefördert werden kann/konnte:
A25: Begründung, warum es kein Kurs, keine Arbeitstagung, keine Großveranstaltung und keine Kleinaktivität ist unter Berücksichtigung der Angaben von Ziele, Anzahl Teilnehmende, Dauer der Veranstaltung und besonderer Anforderungen wie eingeschränkte Auswahl an Veranstaltungsorten, Sicherheitsanforderungen, besondere technische Ausstattung. Weitere Hilfestellungen "Arbeitshilfe - Sonstige Aktivitäten" im Downloadbereich der dsj-Homepage.
B34: I | D34: Kosten (in Euro)
B35: I.1 | D35: Personalkosten gem. Anlage AV6-Z | Z35: 0
D36: (Formblätter P1, P2 und P3 sind erforderlich)
B37: I.2 | D37: Sächliche Verwaltungsausgaben | Y37: =T38+T39+T40+T41 -> 0
B38: I.2.1 | D38: Geschäftsbedarf | T38: 0
B39: I.2.2 | D39: Post- und Telekommunikationsgebühren | T39: 0
B40: I.2.3 | D40: Haltung von Kraftfahrzeugen | T40: 0
B41: I.2.4 | D41: Geräte, Ausstattungs- und Ausrüstungsgegenstände | T41: 0
D42: (Gegenstände mit einem Wert von über 800 € (ohne Umsatzsteuer)
D43: einzeln aufführen)
B48: I.3 | D48: Mieten für Grundstücke und Geräte | Y48: 0
B49: I.4 | D49: Reisekostenvergütungen für Mitarbeiterinnen und Mitarbeiter | Y49: 0
B50: I.5 | D50: Veröffentlichungen | Y50: 0
B51: I.6 | D51: Fachaufgaben | Y51: 0
B52: I.7 | Y52: 0
B53: I.8 | Y53: 0
L55: Gesamtkosten | Y55: =Z35+Y37+Y48+Y49+Y50+Y51+Y52+Y53 -> 0
B57: II | D57: Finanzierung (in Euro)
B58: II.1* | D58: Beiträge der Teilnehmenden | Y58: 0
B59: II.2* | D59: Eigenmittel | Y59: 0
B60: II.3 | D60: Öffentliche Zuschüsse | Y60: =T61+T62+T63 -> 0
D61: Europa-Mittel | T61: 0
D62: Bundesländer | T62: 0
D63: Städte, Kreise | T63: 0
B64: II.4* | D64: Andere Einnahmen (z. B. Spenden) | Y64: 0
B65: II.5 | D65: beantragte/abgerechnete KJP-Zuwendung | Y65: 0
L67: Gesamteinnahmen | Y67: =Y58+Y59+Y60+Y64+Y65 -> 0
...

Sheet AV-K3
P1: Kinder- und Jugendplan des Bundes (KJP) 20 | Q1: 27 | U1: Formblatt | V1: x | W1: A-K3 (Antrag)
W2: V-K3 (Verwendungsnachweis)
A4: Antragsteller/Zuwendungsempfänger (Kurzbezeichnung)
S5: Kosten- und Finanzierungsplan
S7: Sonstige Aktivität
S8: als Druck-/Medienerzeugnis (SoA DM)
A10: Titel
A14: Kurzbeschreibung des Inhalts
A15: Zielgruppe, Zusammensetzung der Gruppe, inhaltliche Schwerpunkte, Bezug zur Kinder- und Jugendhilfe, geplante Öffentlichkeitsarbeit
A27: ggf. Auflage | E27: ggf. tatsächliche | J27: ggf. Seitenumfang | O27: ggf. Herstellungs- | T27: ggf. Erschei- | X27: ggf. Verlag
A28: Stückzahl | E28: Stückzahl | J28: (einschl.Umschlag) | O28: verfahren | T28: nungsweise
B33: I | D33: Kosten (in Euro)
B34: I.1 | D34: Satz-/Druck-/Publikationskosten (brutto) | Y34: 0
B35: I.2 | D35: Honorare/Redaktionskosten (brutto) | Y35: 0
B36: I.3 | D36: Versand-/Vertriebskosten (Porto, Verpackung etc.) | Y36: 0
B37: I.4 | D37: Reisekosten | Y37: 0
B38: I.5 | D38: Weitere Kosten einzeln aufführen | Y38: =T39+T40+T41 -> 0
T39: 0
T40: 0
T41: 0
L43: Gesamtkosten | Y43: =Y38+Y37+Y36+Y35+Y34 -> 0
B46: II | D46: Finanzierung (in Euro)
B47: II.1* | D47: Verkaufserlös (netto) | Y47: 0
B48: II.2* | D48: Eigenmittel | Y48: 0
B49: II.3* | D49: Anzeigen-Erlöse (netto) | Y49: 0
B50: II.4 | D50: Öffentliche Zuschüsse | Y50: 0
D51: Europa-Mittel | T51: 0
D52: Bundesländer | T52: 0
D53: Städte, Kreise | T53: 0
B54: II.5* | D54: Andere Einnahmen | Y54: 0
B55: II.6 | D55: Beantragte/abgerechnete KJP-Zuwendung | Y55: 0
L57: Gesamteinnahmen | Y57: =Y47+Y48+Y49+Y50+Y54+Y55 -> 0
A59: * Die Summe aus II.1, II.2, II.3 und II.5 beträgt mindestens 10% der Gesamtkosten.

Sheet Personalkosten
B1: Kinder- und Jugendplan des Bundes (KJP) 2027 | R1: Formblatt | S1: x | T1: A6-Z (Antrag)
T2: V6-Z (Verwendungsnachweis)
Y3: Seite: | Z3: 1
A4: Antragsteller/Zuwendungsempfänger (Kurzbezeichnung)
M5: Zusammenstellung Stellenübersicht
A6: =Deckblatt!A16 -> Mitgliedsorganisation
A7: =Deckblatt!A17 -> Straße und Hausnummer | M7: für Personalkostenförderung nach Nr. VI. 1 RL-KJP | P7: KJP-Handlungsfeld
A8: =Deckblatt!A18 -> PLZ Stadt | P8: Kinder- und Jugendarbeit im Sport
A10: lfd. Nr. | B10: Stellenbezeichnung | K10: Laufbahn | L10: Umfang | M10: Name und Vorname der/des Beschäftigten | N10: Dauer der Tätigkeit in Monaten im Förderjahr | O10: Beantragte Gesamtkosten pro Stelle (Gesamtsumme P3) | P10: Bemerkungen dsj Hier bitte nichts eintragen
B11: z. B. Sachberarbeitung, Jugendreferent*in, Jugendsekretär*in, Geschäftsführer*in | K11: m,g,h (beantragt)** | L11: Vollzeit/ Teilzeit (25, 50, 75 oder 100 %) (beantragt)
A15: Ggf. vor den Angaben zur Stelle und Person Name des Anstellungsträgers einsetzen, falls dieser vom Antragsteller abweicht.
A16: 1 | B16: 2 | K16: 3 | L16: 4 | M16: 5 | N16: 6 | O16: 7
A17: 1
A18: 2
A19: 3
A20: 4
A21: 5
A22: *Namensnennung bei Antragstellung nur mit Zustimmung der / des Betroffenen - ansonsten | O22: =SUM(O17:O21) -> 0
A23: anonymisierte Angaben
A24: **m=mittlerer Dienst / g=gehobener Dienst / h = höherer Dienst
A26: Änderungen hinsichtlich der Stellenbewertungen und -besetzungen sind gegenüber der genehmigten Stellenübersicht:
C27: Nicht eingetreten
A29: Zur Bedarfserfassung gilt: Bis zum Jahr 2030 werden keine neuen Stellenbewertungen durchgeführt und keine neuen Stellen genehmigt. An dieser Stelle wird ausschließlich der bestehende oder erwartete Bedarf erfasst. Alle beantragten Änderungen werden gesammelt und bis 2030 dokumentiert, um eine Grundlage für spätere Entscheidungen zu schaffen.
A30: Bei neuen Stellen und Änderung der Stellenbewertung:
A31: lfd. Nr. | K31: Änderungen der Laufbahngruppe
B32: Name, Vorname
Q35: Arbeitsplatzbeschreibung mit Formblatt P1
Q36: Personalbogen mit Formblatt P2

Sheet P 1 Seite 1
D1: Kinder- und Jugendplan des Bundes (KJP) 20 | E1: 27 | I1: Formblatt P 1 Seite 1
E4: Arbeitsplatzbeschreibung (3 Seiten)
F6: für einen neuen Arbeitsplatz | I6: für die Änderung eines bereits genehmigten Arbeitsplatzes
A7: Name & Stellenbezeichnung | E7: KJP-Programm (KJS oder EF)
F9: EF
F10: KJS
A13: 1 | C13: Tätigkeiten, beschrieben nach dem Stand vom_________
A15: 1.1 | B15: Art und Umfang der am Arbeitsplatz auszuübenden Tätigkeiten: | I15: Anteil der
B16: Die Tätigkeiten sind - nach sachlichen Gruppen unter Berücksichtigung des Grades der Mitwirkung an | I16: Arbeitszeit in %
B17: einer Aufgabe - zu ordnen. Sie sind konkret zu beschreiben und entsprechend dem Anteil an der Arbeits-
B18: zeit prozentual anzugeben. Nur gelegentlich vorkommende Tätigkeiten sollen nicht angegeben werden.
B21: Lfd.
B22: Nr.

Sheet P 1 Seite 2
C1: Kinder- und Jugendplan des Bundes (KJP) 20 | D1: 27 | H1: Formblatt P 1 Seite 2
E4: Arbeitsplatzbeschreibung (3 Seiten)
A7: 1.2 | B7: Die Wahrnehmung der Aufgaben erfordert insbesondere folgende Fähigkeiten und Kenntnisse:
A19: 2. | B19: Befugnisse der Arbeitsplatzinhaberin / des Arbeitsplatzinhabers
B20: (z. B. selbstständige Entscheidungen einschl. geschäftsordnungsgemäße Vertretung einer/eines Vorgesetzten):
A31: 3. | B31: Der Arbeitsplatzinhaberin / Dem Arbeitsplatzinhaber sind unmittelbar folgende Personen unterstellt
B32: (Anzahl und Stellengruppen, Fach- oder Dienstaufsicht):
A42: 4. | B42: Die Arbeitsplatzinhaberin / Der Arbeitsplatzinhaber ist folgender Person unmittelbar unterstellt:
B44: Fachaufsicht:
B46: Dienstaufsicht:
A49: 5. | B49: Die genannten Tätigkeiten sollen ab . | D49: wahrgenommen werden.

Sheet P 1 Seite 3
E1: Kinder- und Jugendplan des Bundes (KJP) 20 | F1: 27 | H1: Formblatt P 1 Seite 3
F4: Arbeitsplatzbeschreibung (3 Seiten)
A7: 6 | B7: Tarifliche Bewertung
B8: Zu | C8: Tätigkeitsmerkmal
B9: lfd. Nr. | C9: Erfüllte | D9: Begründung
B10: (von 1.1) | C10: Anforderungen
A37: 7 | B37: Stellenbesetzung
B39: Die Stelle soll mit folgender Person besetzt werden, für die ein Personalbogen mit Formblatt P2 beigefügt ist:
B41: Name, Vorname* | G41: Geburtsdatum | H41: Entgeltgr./Stufe nach TVöD oder anderem TV
A49: Ort, Datum | D49: Namensangabe(n) u. Funktion(en) in Druckbuchstaben sowie einfache (elektronische) Signatur(en) (z.B. eingescannte Unterschrift)
A52: *Namensnennung bei Antragstellung nur mit Zustimmung der/des Betroffenen - ansonsten anonymisierte Angaben

Sheet P2
B1: Kinder- und Jugendplan des Bundes (KJP) 2027 | F1: Formblatt P 2
F4: Personalbogen
A6: Zur Person:
A8: 1. | B8: Name, Vorname | D8: Stellenbezeichnung | F8: Geburtsdatum
B12: Anschrift:
B14: =Deckblatt!A16 -> Mitgliedsorganisation
B15: =Deckblatt!A17 -> Straße und Hausnummer
B16: =Deckblatt!A18 -> PLZ Stadt
A18: 2. | B18: Qualifikationen, soweit sie für die Tätgkeiten relevant sind, wie
B19: Schulabschluss, Ausbildungsabschluss, Studienabschluss, Prüfungen usw.
A28: 3. | B28: Bisherige Berufstätigkeiten
B29: von - bis | C29: tätig als | E29: Arbeitgeber
A38: 4. | B38: Art der bisherigen Tätigkeit (ggf. für Stufeneinordnung erforderlich) | F38: Beschäftigt seit
A43: Umfang der Beschäftigung | C43: Eingestuft nach | E43: nach Personalkostenordnung/besonderem Tarifvertrag
A44: (wöchentliche Arbeitszeit) | C44: Entgeltgr./Stufe nach | E44: vom | F44: Gruppe
C45: TVöD oder anderen TV
D49: Die Richtigkeit der Angaben wird bestätigt:
A54: Ort, Datum | D54: Namensangabe(n) u. Funktion(en) in Druckbuchstaben sowie einfache (elektronische) Signatur(en) (z.B. eingescannte Unterschrift)
A57: *Namensnennung bei Antragstellung nur mit Zustimmung der/des Betroffenen; ansonsten anonymisierte Angaben gemäß DS-GVO

Sheet P3
E1: Kinder- und Jugendplan des Bundes (KJP) 20 | F1: 27 | J1: Formblatt P 3
H4: Personalkostenberechnung
A7: Antragsteller (Kurzbezeichnung) | D7: Stellenbezeichnung
B9: =Deckblatt!A16 -> Mitgliedsorganisation | J9: KJP-Stellen-
B10: =Deckblatt!A17 -> Straße und Hausnummer | J10: übersicht-Nr.®
B11: =Deckblatt!A18 -> PLZ Stadt | J11: (AV6-Z, Spalte 1)
B12: Name, Vorname der Stelleninhaberin / des Stelleninhabers* | G12: Geburtsdatum | H12: Beschäftigungs- umfang in % | J12: Tarifvertrag
A16: 1 | B16: Personalkosten | E16: ab | G16: ab | I16: ab
B17: Entgeltgruppe**
B18: Entwicklungsstufe**
A20: 2 | B20: monatliches Bruttoentgelt | E20: € | G20: € | I20: €
B22: Entgelt gem. Tabelle**
B24: Besitzstandszulage**
B26: Strukturausgleiche**
B28: Sonstiges (bitte benennen)
B30: Vermögenswirksame Leistung
E31: =SUM(E21:E30) -> 0 | G31: =SUM(G21:G30) -> 0 | I31: =SUM(I21:I30) -> 0
B32: Zusammen
B33: Arbeitgeberanteile
B35: Rentenversicherung
B37: Arbeitslosenversicherung
B39: Krankenversicherung
B41: Pflegeversicherung
B43: Zusätzliche Altersversorgung
B48: Monatlicher Gesamtaufwand | E48: =SUM(E31:E46) -> 0 | G48: =SUM(G31:G46) -> 0 | I48: =SUM(I31:I46) -> 0
A51: 3 | B51: Jahres-Bruttovergütung | D51: X Monate: | E51: 12 | F51: X Monate: | G51: 12 | H51: X Monate: | I51: 12 | J51: Summe €
D52: = | E52: =E48*E51 -> 0 | F52: = | G52: =G48*G51 -> 0 | H52: = | I52: =I48*I51 -> 0 | J52: =I52+G52+E52 -> 0
B54: Einmalzahlungen | D54: Leistungsentgelt: | E54: 0 | G54: 0 | I54: 0 | J54: =I54+G54+E54 -> 0
D56: Einmalzahlung(en): | E56: 0 | G56: 0 | I56: 0 | J56: =I56+G56+E56 -> 0
D58: Jahressonderzahlung: | E58: 0 | G58: 0 | I58: 0 | J58: =I58+G58+E58 -> 0
D60: Sozialvers. aus o. g. Einmalzahlungen: | E60: 0 | G60: 0 | I60: 0 | J60: =I60+G60+E60 -> 0
H62: Gesamtbetrag ® | J62: =SUM(J52:J60) -> 0
F65: Die Richtigkeit der Angaben wird bestätigt:
A70: Ort, Datum | F70: Namensangabe(n) u. Funktion(en) in Druckbuchstaben sowie einfache (elektronische) Signatur(en) (z.B. eingescannte Unterschrift)
A74: * Namensnennung bei Antragstellung nur mit Zustimmung der / des Betroffenen - ansonsten anonymisierte Angaben gemäß DS-GVO
A75: ** gem. geltenden tarifrechtlichen Regelungen und Tabellen
